BEGIN:VCALENDAR
VERSION:2.0
PRODID:-//Studentenflöhe Rosenheim - ECPv6.10.0//NONSGML v1.0//EN
CALSCALE:GREGORIAN
METHOD:PUBLISH
X-ORIGINAL-URL:https://studentenfloeherosenheim.de
X-WR-CALDESC:Veranstaltungen für Studentenflöhe Rosenheim
REFRESH-INTERVAL;VALUE=DURATION:PT1H
X-Robots-Tag:noindex
X-PUBLISHED-TTL:PT1H
BEGIN:VTIMEZONE
TZID:Europe/Berlin
BEGIN:DAYLIGHT
TZOFFSETFROM:+0100
TZOFFSETTO:+0200
TZNAME:CEST
DTSTART:20250330T010000
END:DAYLIGHT
BEGIN:STANDARD
TZOFFSETFROM:+0200
TZOFFSETTO:+0100
TZNAME:CET
DTSTART:20251026T010000
END:STANDARD
END:VTIMEZONE
BEGIN:VEVENT
DTSTART;TZID=Europe/Berlin:20250915T190000
DTEND;TZID=Europe/Berlin:20250915T203000
DTSTAMP:20260423T212449
CREATED:20250918T175811Z
LAST-MODIFIED:20250918T175811Z
UID:2297-1757962800-1757968200@studentenfloeherosenheim.de
SUMMARY:1. Mitgliederversammlung
DESCRIPTION:
URL:https://studentenfloeherosenheim.de/termin/1-mitgliederversammlung/
CATEGORIES:Feste
END:VEVENT
END:VCALENDAR