BEGIN:VCALENDAR
VERSION:2.0
PRODID:-//Studentenflöhe Rosenheim - ECPv6.10.0//NONSGML v1.0//EN
CALSCALE:GREGORIAN
METHOD:PUBLISH
X-ORIGINAL-URL:https://studentenfloeherosenheim.de
X-WR-CALDESC:Veranstaltungen für Studentenflöhe Rosenheim
REFRESH-INTERVAL;VALUE=DURATION:PT1H
X-Robots-Tag:noindex
X-PUBLISHED-TTL:PT1H
BEGIN:VTIMEZONE
TZID:Europe/Berlin
BEGIN:DAYLIGHT
TZOFFSETFROM:+0100
TZOFFSETTO:+0200
TZNAME:CEST
DTSTART:20250330T010000
END:DAYLIGHT
BEGIN:STANDARD
TZOFFSETFROM:+0200
TZOFFSETTO:+0100
TZNAME:CET
DTSTART:20251026T010000
END:STANDARD
END:VTIMEZONE
BEGIN:VEVENT
DTSTART;VALUE=DATE:20250908
DTEND;VALUE=DATE:20250909
DTSTAMP:20260424T064643
CREATED:20250107T185516Z
LAST-MODIFIED:20250119T191450Z
UID:2091-1757289600-1757375999@studentenfloeherosenheim.de
SUMMARY:Konzeptionstag
DESCRIPTION:
URL:https://studentenfloeherosenheim.de/termin/konzeptionstag/
LOCATION:Kita
CATEGORIES:Schließzeiten
END:VEVENT
END:VCALENDAR